BEGIN:VCALENDAR
VERSION:2.0
PRODID:-//Mowbray Public School P&amp;C - ECPv6.15.20//NONSGML v1.0//EN
CALSCALE:GREGORIAN
METHOD:PUBLISH
X-WR-CALNAME:Mowbray Public School P&amp;C
X-ORIGINAL-URL:https://mowbraypandc.org.au
X-WR-CALDESC:Events for Mowbray Public School P&amp;C
REFRESH-INTERVAL;VALUE=DURATION:PT1H
X-Robots-Tag:noindex
X-PUBLISHED-TTL:PT1H
BEGIN:VTIMEZONE
TZID:Australia/Sydney
BEGIN:STANDARD
TZOFFSETFROM:+1100
TZOFFSETTO:+1000
TZNAME:AEST
DTSTART:20240406T160000
END:STANDARD
BEGIN:DAYLIGHT
TZOFFSETFROM:+1000
TZOFFSETTO:+1100
TZNAME:AEDT
DTSTART:20241005T160000
END:DAYLIGHT
BEGIN:STANDARD
TZOFFSETFROM:+1100
TZOFFSETTO:+1000
TZNAME:AEST
DTSTART:20250405T160000
END:STANDARD
BEGIN:DAYLIGHT
TZOFFSETFROM:+1000
TZOFFSETTO:+1100
TZNAME:AEDT
DTSTART:20251004T160000
END:DAYLIGHT
BEGIN:STANDARD
TZOFFSETFROM:+1100
TZOFFSETTO:+1000
TZNAME:AEST
DTSTART:20260404T160000
END:STANDARD
BEGIN:DAYLIGHT
TZOFFSETFROM:+1000
TZOFFSETTO:+1100
TZNAME:AEDT
DTSTART:20261003T160000
END:DAYLIGHT
END:VTIMEZONE
BEGIN:VEVENT
DTSTART;TZID=Australia/Sydney:20250211T193000
DTEND;TZID=Australia/Sydney:20250211T210000
DTSTAMP:20260421T203919
CREATED:20250210T034550Z
LAST-MODIFIED:20250210T043819Z
UID:4628-1739302200-1739307600@mowbraypandc.org.au
SUMMARY:P&C Meeting 1 (Term 1) 2025
DESCRIPTION:P&C General Meeting\nTuesday 11 Feb · 7:30 – 9 pm \nGoogle Meet joining info\nVideo call link: https://meet.google.com/kib-pdao-daa \nOr dial: +61 2 9051 6874 PIN: 123227630 \nMore phone numbers: https://tel.meet/kib-pdao-daa?pin=5018484609912
URL:https://mowbraypandc.org.au/calendar/pc-meeting-1-term-1-2025/
LOCATION:Mowbray Public School\, 635 Mowbray Road\, Lane Cove North\, NSW\, 2066\, Australia
CATEGORIES:Meeting
END:VEVENT
END:VCALENDAR